Package: signatureSearch Version: 1.6.3 Command: /home/biocbuild/bbs-3.13-bioc/R/bin/R CMD check --install=check:signatureSearch.install-out.txt --library=/home/biocbuild/bbs-3.13-bioc/R/library --no-vignettes --timings signatureSearch_1.6.3.tar.gz StartedAt: 2021-10-14 11:37:38 -0400 (Thu, 14 Oct 2021) EndedAt: 2021-10-14 11:43:48 -0400 (Thu, 14 Oct 2021) EllapsedTime: 370.3 seconds RetCode: 0 Status: OK CheckDir: signatureSearch.Rcheck Warnings: 0