Package: sigPathway Version: 1.60.0 Command: C:\Users\biocbuild\bbs-3.13-bioc\R\bin\R.exe CMD check --force-multiarch --install=check:sigPathway.install-out.txt --library=C:\Users\biocbuild\bbs-3.13-bioc\R\library --no-vignettes --timings sigPathway_1.60.0.tar.gz StartedAt: 2021-10-15 05:43:22 -0400 (Fri, 15 Oct 2021) EndedAt: 2021-10-15 05:44:27 -0400 (Fri, 15 Oct 2021) EllapsedTime: 65.5 seconds RetCode: 0 Status: OK CheckDir: sigPathway.Rcheck Warnings: 0