Package: sevenC Version: 1.12.0 Command: /home/biocbuild/bbs-3.13-bioc/R/bin/R CMD build --keep-empty-dirs --no-resave-data sevenC StartedAt: 2021-10-14 08:24:56 -0400 (Thu, 14 Oct 2021) EndedAt: 2021-10-14 08:26:08 -0400 (Thu, 14 Oct 2021) EllapsedTime: 71.3 seconds RetCode: 0 Status: OK PackageFile: sevenC_1.12.0.tar.gz PackageFileSize: 1.96 MiB