Package: sesame Version: 1.10.5 Command: /home/biocbuild/bbs-3.13-bioc/R/bin/R CMD check --install=check:sesame.install-out.txt --library=/home/biocbuild/bbs-3.13-bioc/R/library --no-vignettes --timings sesame_1.10.5.tar.gz StartedAt: 2021-10-14 11:36:01 -0400 (Thu, 14 Oct 2021) EndedAt: 2021-10-14 11:50:19 -0400 (Thu, 14 Oct 2021) EllapsedTime: 858.2 seconds RetCode: 0 Status: OK CheckDir: sesame.Rcheck Warnings: 0