Package: seqsetvis Version: 1.12.0 Command: /Library/Frameworks/R.framework/Versions/Current/Resources/bin/R CMD check --install=check:seqsetvis.install-out.txt --library=/Library/Frameworks/R.framework/Versions/Current/Resources/library --no-vignettes --timings seqsetvis_1.12.0.tar.gz StartedAt: 2021-10-14 23:55:01 -0400 (Thu, 14 Oct 2021) EndedAt: 2021-10-15 00:07:40 -0400 (Fri, 15 Oct 2021) EllapsedTime: 758.7 seconds RetCode: 0 Status: OK CheckDir: seqsetvis.Rcheck Warnings: 0