Package: seqplots Version: 1.30.0 Command: C:\cygwin\bin\curl.exe -O http://155.52.207.165/BBS/3.13/bioc/src/contrib/seqplots_1.30.0.tar.gz && rm -rf seqplots.buildbin-libdir && mkdir seqplots.buildbin-libdir && C:\Users\biocbuild\bbs-3.13-bioc\R\bin\R.exe CMD INSTALL --merge-multiarch --build --library=seqplots.buildbin-libdir seqplots_1.30.0.tar.gz && C:\Users\biocbuild\bbs-3.13-bioc\R\bin\R.exe CMD INSTALL seqplots_1.30.0.zip && rm seqplots_1.30.0.tar.gz seqplots_1.30.0.zip StartedAt: 2021-10-14 10:14:13 -0400 (Thu, 14 Oct 2021) EndedAt: 2021-10-14 10:16:22 -0400 (Thu, 14 Oct 2021) EllapsedTime: 128.4 seconds RetCode: 0 Status: OK