Package: seqplots Version: 1.30.0 Command: rm -rf seqplots.buildbin-libdir && mkdir seqplots.buildbin-libdir && C:\Users\biocbuild\bbs-3.13-bioc\R\bin\R.exe CMD INSTALL --merge-multiarch --build --library=seqplots.buildbin-libdir seqplots_1.30.0.tar.gz StartedAt: 2021-10-15 11:45:35 -0400 (Fri, 15 Oct 2021) EndedAt: 2021-10-15 11:46:58 -0400 (Fri, 15 Oct 2021) EllapsedTime: 83.1 seconds RetCode: 0 Status: OK PackageFile: seqplots_1.30.0.zip PackageFileSize: 7.397 MiB