Package: seqplots Version: 1.30.0 Command: /home/biocbuild/bbs-3.13-bioc/R/bin/R CMD INSTALL seqplots StartedAt: 2021-10-14 06:23:29 -0400 (Thu, 14 Oct 2021) EndedAt: 2021-10-14 06:24:03 -0400 (Thu, 14 Oct 2021) EllapsedTime: 34.5 seconds RetCode: 0 Status: OK