Package: seqplots Version: 1.30.0 Command: /Library/Frameworks/R.framework/Versions/Current/Resources/bin/R CMD check --install=check:seqplots.install-out.txt --library=/Library/Frameworks/R.framework/Versions/Current/Resources/library --no-vignettes --timings seqplots_1.30.0.tar.gz StartedAt: 2021-10-14 23:54:56 -0400 (Thu, 14 Oct 2021) EndedAt: 2021-10-15 00:00:12 -0400 (Fri, 15 Oct 2021) EllapsedTime: 316.2 seconds RetCode: 1 Status: ERROR CheckDir: seqplots.Rcheck Warnings: NA