Package: seqcombo Version: 1.14.1 Command: /home/biocbuild/bbs-3.13-bioc/R/bin/R CMD INSTALL seqcombo StartedAt: 2021-10-14 06:08:04 -0400 (Thu, 14 Oct 2021) EndedAt: 2021-10-14 06:08:16 -0400 (Thu, 14 Oct 2021) EllapsedTime: 12.0 seconds RetCode: 0 Status: OK