Package: seqcombo Version: 1.14.1 Command: /home/biocbuild/bbs-3.13-bioc/R/bin/R CMD check --install=check:seqcombo.install-out.txt --library=/home/biocbuild/bbs-3.13-bioc/R/library --no-vignettes --timings seqcombo_1.14.1.tar.gz StartedAt: 2021-10-14 11:34:54 -0400 (Thu, 14 Oct 2021) EndedAt: 2021-10-14 11:36:15 -0400 (Thu, 14 Oct 2021) EllapsedTime: 80.1 seconds RetCode: 0 Status: OK CheckDir: seqcombo.Rcheck Warnings: 0