Package: seqcombo Version: 1.14.1 Command: /home/biocbuild/bbs-3.13-bioc/R/bin/R CMD build --keep-empty-dirs --no-resave-data seqcombo StartedAt: 2021-10-14 08:24:08 -0400 (Thu, 14 Oct 2021) EndedAt: 2021-10-14 08:24:35 -0400 (Thu, 14 Oct 2021) EllapsedTime: 27.2 seconds RetCode: 0 Status: OK PackageFile: seqcombo_1.14.1.tar.gz PackageFileSize: 1.21 MiB