Package: seqcombo Version: 1.14.1 Command: /Library/Frameworks/R.framework/Versions/Current/Resources/bin/R CMD build --keep-empty-dirs --no-resave-data seqcombo StartedAt: 2021-10-14 14:51:28 -0400 (Thu, 14 Oct 2021) EndedAt: 2021-10-14 14:52:18 -0400 (Thu, 14 Oct 2021) EllapsedTime: 49.7 seconds RetCode: 0 Status: OK PackageFile: seqcombo_1.14.1.tar.gz PackageFileSize: 1.212 MiB