Package: seqcombo Version: 1.14.1 Command: rm -rf seqcombo.buildbin-libdir && mkdir seqcombo.buildbin-libdir && /Users/biocbuild/BBS/utils/build-universal.sh seqcombo_1.14.1.tar.gz /Library/Frameworks/R.framework/Versions/Current/Resources/bin/R seqcombo.buildbin-libdir StartedAt: 2021-10-15 03:57:50 -0400 (Fri, 15 Oct 2021) EndedAt: 2021-10-15 03:58:59 -0400 (Fri, 15 Oct 2021) EllapsedTime: 69.7 seconds RetCode: 0 Status: OK PackageFile: seqcombo_1.14.1.tgz PackageFileSize: 1.218 MiB