Package: seqbias Version: 1.40.0 Command: /home/biocbuild/bbs-3.13-bioc/R/bin/R CMD INSTALL seqbias StartedAt: 2021-10-14 06:07:09 -0400 (Thu, 14 Oct 2021) EndedAt: 2021-10-14 06:07:59 -0400 (Thu, 14 Oct 2021) EllapsedTime: 50.6 seconds RetCode: 0 Status: OK