Package: seqbias Version: 1.40.0 Command: /home/biocbuild/bbs-3.13-bioc/R/bin/R CMD check --install=check:seqbias.install-out.txt --library=/home/biocbuild/bbs-3.13-bioc/R/library --no-vignettes --timings seqbias_1.40.0.tar.gz StartedAt: 2021-10-14 11:34:40 -0400 (Thu, 14 Oct 2021) EndedAt: 2021-10-14 11:35:47 -0400 (Thu, 14 Oct 2021) EllapsedTime: 67.1 seconds RetCode: 0 Status: WARNINGS CheckDir: seqbias.Rcheck Warnings: 1