Package: seqTools Version: 1.26.0 Command: /home/biocbuild/bbs-3.13-bioc/R/bin/R CMD check --install=check:seqTools.install-out.txt --library=/home/biocbuild/bbs-3.13-bioc/R/library --no-vignettes --timings seqTools_1.26.0.tar.gz StartedAt: 2021-10-14 11:35:48 -0400 (Thu, 14 Oct 2021) EndedAt: 2021-10-14 11:36:08 -0400 (Thu, 14 Oct 2021) EllapsedTime: 20.8 seconds RetCode: 0 Status: WARNINGS CheckDir: seqTools.Rcheck Warnings: 2