Package: seqPattern Version: 1.24.0 Command: C:\cygwin\bin\curl.exe -O http://155.52.207.165/BBS/3.13/bioc/src/contrib/seqPattern_1.24.0.tar.gz && rm -rf seqPattern.buildbin-libdir && mkdir seqPattern.buildbin-libdir && C:\Users\biocbuild\bbs-3.13-bioc\R\bin\R.exe CMD INSTALL --merge-multiarch --build --library=seqPattern.buildbin-libdir seqPattern_1.24.0.tar.gz && C:\Users\biocbuild\bbs-3.13-bioc\R\bin\R.exe CMD INSTALL seqPattern_1.24.0.zip && rm seqPattern_1.24.0.tar.gz seqPattern_1.24.0.zip StartedAt: 2021-10-14 08:16:07 -0400 (Thu, 14 Oct 2021) EndedAt: 2021-10-14 08:17:28 -0400 (Thu, 14 Oct 2021) EllapsedTime: 80.8 seconds RetCode: 0 Status: OK