Package: seqLogo Version: 1.58.0 Command: /Library/Frameworks/R.framework/Versions/Current/Resources/bin/R CMD check --install=check:seqLogo.install-out.txt --library=/Library/Frameworks/R.framework/Versions/Current/Resources/library --no-vignettes --timings seqLogo_1.58.0.tar.gz StartedAt: 2021-10-14 23:54:45 -0400 (Thu, 14 Oct 2021) EndedAt: 2021-10-14 23:55:17 -0400 (Thu, 14 Oct 2021) EllapsedTime: 31.8 seconds RetCode: 0 Status: OK CheckDir: seqLogo.Rcheck Warnings: 0