Package: seqLogo Version: 1.58.0 Command: rm -rf seqLogo.buildbin-libdir && mkdir seqLogo.buildbin-libdir && /Users/biocbuild/BBS/utils/build-universal.sh seqLogo_1.58.0.tar.gz /Library/Frameworks/R.framework/Versions/Current/Resources/bin/R seqLogo.buildbin-libdir StartedAt: 2021-10-15 03:58:06 -0400 (Fri, 15 Oct 2021) EndedAt: 2021-10-15 03:59:15 -0400 (Fri, 15 Oct 2021) EllapsedTime: 69.6 seconds RetCode: 0 Status: OK PackageFile: seqLogo_1.58.0.tgz PackageFileSize: 550.2 KiB