Package: semisup Version: 1.16.0 Command: /home/biocbuild/bbs-3.13-bioc/R/bin/R CMD build --keep-empty-dirs --no-resave-data semisup StartedAt: 2021-10-14 08:23:46 -0400 (Thu, 14 Oct 2021) EndedAt: 2021-10-14 08:23:52 -0400 (Thu, 14 Oct 2021) EllapsedTime: 6.7 seconds RetCode: 0 Status: OK PackageFile: semisup_1.16.0.tar.gz PackageFileSize: 286 KiB