Package: selectKSigs Version: 1.4.0 Command: /home/biocbuild/bbs-3.13-bioc/R/bin/R CMD INSTALL selectKSigs StartedAt: 2021-10-14 06:30:20 -0400 (Thu, 14 Oct 2021) EndedAt: 2021-10-14 06:30:36 -0400 (Thu, 14 Oct 2021) EllapsedTime: 16.1 seconds RetCode: 0 Status: OK