Package: selectKSigs Version: 1.4.0 Command: /home/biocbuild/bbs-3.13-bioc/R/bin/R CMD build --keep-empty-dirs --no-resave-data selectKSigs StartedAt: 2021-10-14 08:22:56 -0400 (Thu, 14 Oct 2021) EndedAt: 2021-10-14 08:24:39 -0400 (Thu, 14 Oct 2021) EllapsedTime: 103.0 seconds RetCode: 0 Status: OK PackageFile: selectKSigs_1.4.0.tar.gz PackageFileSize: 364.6 KiB