Package: selectKSigs Version: 1.4.0 Command: /Library/Frameworks/R.framework/Versions/Current/Resources/bin/R CMD INSTALL selectKSigs StartedAt: 2021-10-14 10:10:36 -0400 (Thu, 14 Oct 2021) EndedAt: 2021-10-14 10:11:02 -0400 (Thu, 14 Oct 2021) EllapsedTime: 25.8 seconds RetCode: 0 Status: OK