Package: scry Version: 1.4.0 Command: C:\Users\biocbuild\bbs-3.13-bioc\R\bin\R.exe CMD check --force-multiarch --install=check:scry.install-out.txt --library=C:\Users\biocbuild\bbs-3.13-bioc\R\library --no-vignettes --timings scry_1.4.0.tar.gz StartedAt: 2021-10-15 05:23:20 -0400 (Fri, 15 Oct 2021) EndedAt: 2021-10-15 05:27:06 -0400 (Fri, 15 Oct 2021) EllapsedTime: 225.8 seconds RetCode: 0 Status: OK CheckDir: scry.Rcheck Warnings: 0