Package: scry Version: 1.4.0 Command: chmod a+r scry -R && C:\Users\biocbuild\bbs-3.13-bioc\R\bin\R.exe CMD build --keep-empty-dirs --no-resave-data scry StartedAt: 2021-10-14 18:05:21 -0400 (Thu, 14 Oct 2021) EndedAt: 2021-10-14 18:11:58 -0400 (Thu, 14 Oct 2021) EllapsedTime: 397.4 seconds RetCode: 0 Status: OK PackageFile: scry_1.4.0.tar.gz PackageFileSize: 4.409 MiB