Package: scry Version: 1.4.0 Command: /home/biocbuild/bbs-3.13-bioc/R/bin/R CMD INSTALL scry StartedAt: 2021-10-14 06:15:08 -0400 (Thu, 14 Oct 2021) EndedAt: 2021-10-14 06:15:26 -0400 (Thu, 14 Oct 2021) EllapsedTime: 18.5 seconds RetCode: 0 Status: OK