Package: scry Version: 1.4.0 Command: /Library/Frameworks/R.framework/Versions/Current/Resources/bin/R CMD INSTALL scry StartedAt: 2021-10-14 09:14:50 -0400 (Thu, 14 Oct 2021) EndedAt: 2021-10-14 09:15:42 -0400 (Thu, 14 Oct 2021) EllapsedTime: 52.2 seconds RetCode: 0 Status: OK