Package: scry Version: 1.4.0 Command: /Library/Frameworks/R.framework/Versions/Current/Resources/bin/R CMD build --keep-empty-dirs --no-resave-data scry StartedAt: 2021-10-14 14:47:32 -0400 (Thu, 14 Oct 2021) EndedAt: 2021-10-14 14:53:05 -0400 (Thu, 14 Oct 2021) EllapsedTime: 333.8 seconds RetCode: 0 Status: OK PackageFile: scry_1.4.0.tar.gz PackageFileSize: 4.488 MiB