git_url: https://git.bioconductor.org/packages/scry git_branch: RELEASE_3_13 git_last_commit: e03f3cb git_last_commit_date: 2021-05-19 12:52:10 -0400 (Wed, 19 May 2021) Package: scry Version: 1.4.0 Maintainer: Kelly Street MaintainerEmail: street.kelly at gmail.com