Package: scoreInvHap Version: 1.14.0 Command: C:\cygwin\bin\curl.exe -O http://155.52.207.165/BBS/3.13/bioc/src/contrib/scoreInvHap_1.14.0.tar.gz && rm -rf scoreInvHap.buildbin-libdir && mkdir scoreInvHap.buildbin-libdir && C:\Users\biocbuild\bbs-3.13-bioc\R\bin\R.exe CMD INSTALL --merge-multiarch --build --library=scoreInvHap.buildbin-libdir scoreInvHap_1.14.0.tar.gz && C:\Users\biocbuild\bbs-3.13-bioc\R\bin\R.exe CMD INSTALL scoreInvHap_1.14.0.zip && rm scoreInvHap_1.14.0.tar.gz scoreInvHap_1.14.0.zip StartedAt: 2021-10-14 10:40:28 -0400 (Thu, 14 Oct 2021) EndedAt: 2021-10-14 10:41:56 -0400 (Thu, 14 Oct 2021) EllapsedTime: 87.6 seconds RetCode: 0 Status: OK