Package: scoreInvHap Version: 1.14.0 Command: chmod a+r scoreInvHap -R && C:\Users\biocbuild\bbs-3.13-bioc\R\bin\R.exe CMD build --keep-empty-dirs --no-resave-data scoreInvHap StartedAt: 2021-10-14 18:02:32 -0400 (Thu, 14 Oct 2021) EndedAt: 2021-10-14 18:03:52 -0400 (Thu, 14 Oct 2021) EllapsedTime: 80.7 seconds RetCode: 0 Status: OK PackageFile: scoreInvHap_1.14.0.tar.gz PackageFileSize: 1.005 MiB