Package: scTHI Version: 1.4.0 Command: /Library/Frameworks/R.framework/Versions/Current/Resources/bin/R CMD INSTALL scTHI StartedAt: 2021-10-14 08:20:44 -0400 (Thu, 14 Oct 2021) EndedAt: 2021-10-14 08:21:40 -0400 (Thu, 14 Oct 2021) EllapsedTime: 56.8 seconds RetCode: 0 Status: OK