Package: scPipe Version: 1.14.0 Command: rm -rf scPipe.buildbin-libdir && mkdir scPipe.buildbin-libdir && C:\Users\biocbuild\bbs-3.13-bioc\R\bin\R.exe CMD INSTALL --merge-multiarch --build --library=scPipe.buildbin-libdir scPipe_1.14.0.tar.gz StartedAt: 2021-10-15 11:41:41 -0400 (Fri, 15 Oct 2021) EndedAt: 2021-10-15 11:45:35 -0400 (Fri, 15 Oct 2021) EllapsedTime: 234.5 seconds RetCode: 0 Status: OK PackageFile: scPipe_1.14.0.zip PackageFileSize: 4.626 MiB