Package: scPipe Version: 1.14.0 Command: rm -rf scPipe.buildbin-libdir && mkdir scPipe.buildbin-libdir && /Users/biocbuild/BBS/utils/build-universal.sh scPipe_1.14.0.tar.gz /Library/Frameworks/R.framework/Versions/Current/Resources/bin/R scPipe.buildbin-libdir StartedAt: 2021-10-15 03:55:46 -0400 (Fri, 15 Oct 2021) EndedAt: 2021-10-15 03:57:44 -0400 (Fri, 15 Oct 2021) EllapsedTime: 118.0 seconds RetCode: 0 Status: OK PackageFile: scPipe_1.14.0.tgz PackageFileSize: 1.827 MiB