git_url: https://git.bioconductor.org/packages/scPipe git_branch: RELEASE_3_13 git_last_commit: 998ffca git_last_commit_date: 2021-05-19 12:31:10 -0400 (Wed, 19 May 2021) Package: scPipe Version: 1.14.0 Maintainer: Luyi Tian MaintainerEmail: tian.l at wehi.edu.au