Package: scPCA Version: 1.6.2 Command: chmod a+r scPCA -R && C:\Users\biocbuild\bbs-3.13-bioc\R\bin\R.exe CMD build --keep-empty-dirs --no-resave-data scPCA StartedAt: 2021-10-14 18:03:05 -0400 (Thu, 14 Oct 2021) EndedAt: 2021-10-14 18:09:13 -0400 (Thu, 14 Oct 2021) EllapsedTime: 368.6 seconds RetCode: 0 Status: OK PackageFile: scPCA_1.6.2.tar.gz PackageFileSize: 861.6 KiB