Package: scMerge Version: 1.8.0 Command: C:\Users\biocbuild\bbs-3.13-bioc\R\bin\R.exe CMD check --force-multiarch --install=check:scMerge.install-out.txt --library=C:\Users\biocbuild\bbs-3.13-bioc\R\library --no-vignettes --timings scMerge_1.8.0.tar.gz StartedAt: 2021-10-15 05:15:20 -0400 (Fri, 15 Oct 2021) EndedAt: 2021-10-15 05:21:54 -0400 (Fri, 15 Oct 2021) EllapsedTime: 394.5 seconds RetCode: 0 Status: OK CheckDir: scMerge.Rcheck Warnings: 0