Package: scMAGeCK Version: 1.4.0 Command: rm -rf scMAGeCK.buildbin-libdir && mkdir scMAGeCK.buildbin-libdir && /Users/biocbuild/BBS/utils/build-universal.sh scMAGeCK_1.4.0.tar.gz /Library/Frameworks/R.framework/Versions/Current/Resources/bin/R scMAGeCK.buildbin-libdir StartedAt: 2021-10-15 03:54:47 -0400 (Fri, 15 Oct 2021) EndedAt: 2021-10-15 03:55:46 -0400 (Fri, 15 Oct 2021) EllapsedTime: 59.5 seconds RetCode: 0 Status: OK PackageFile: scMAGeCK_1.4.0.tgz PackageFileSize: 3.013 MiB