Package: scGPS Version: 1.6.0 Command: C:\cygwin\bin\curl.exe -O http://155.52.207.165/BBS/3.13/bioc/src/contrib/scGPS_1.6.0.tar.gz && rm -rf scGPS.buildbin-libdir && mkdir scGPS.buildbin-libdir && C:\Users\biocbuild\bbs-3.13-bioc\R\bin\R.exe CMD INSTALL --merge-multiarch --build --library=scGPS.buildbin-libdir scGPS_1.6.0.tar.gz && C:\Users\biocbuild\bbs-3.13-bioc\R\bin\R.exe CMD INSTALL scGPS_1.6.0.zip && rm scGPS_1.6.0.tar.gz scGPS_1.6.0.zip StartedAt: 2021-10-14 09:57:35 -0400 (Thu, 14 Oct 2021) EndedAt: 2021-10-14 10:01:40 -0400 (Thu, 14 Oct 2021) EllapsedTime: 245.9 seconds RetCode: 0 Status: OK