Package: scGPS Version: 1.6.0 Command: /Library/Frameworks/R.framework/Versions/Current/Resources/bin/R CMD INSTALL scGPS StartedAt: 2021-10-14 09:46:01 -0400 (Thu, 14 Oct 2021) EndedAt: 2021-10-14 09:47:50 -0400 (Thu, 14 Oct 2021) EllapsedTime: 109.2 seconds RetCode: 0 Status: OK