Package: scGPS Version: 1.6.0 Command: /Library/Frameworks/R.framework/Versions/Current/Resources/bin/R CMD build --keep-empty-dirs --no-resave-data scGPS StartedAt: 2021-10-14 14:41:05 -0400 (Thu, 14 Oct 2021) EndedAt: 2021-10-14 14:49:52 -0400 (Thu, 14 Oct 2021) EllapsedTime: 527.1 seconds RetCode: 0 Status: OK PackageFile: scGPS_1.6.0.tar.gz PackageFileSize: 1.999 MiB