git_url: https://git.bioconductor.org/packages/scGPS git_branch: RELEASE_3_13 git_last_commit: 503aaf0 git_last_commit_date: 2021-05-19 12:44:58 -0400 (Wed, 19 May 2021) Package: scGPS Version: 1.6.0 Maintainer: Quan Nguyen MaintainerEmail: quan.nguyen at uq.edu.au