Package: scDD Version: 1.16.0 Command: rm -rf scDD.buildbin-libdir && mkdir scDD.buildbin-libdir && /Users/biocbuild/BBS/utils/build-universal.sh scDD_1.16.0.tar.gz /Library/Frameworks/R.framework/Versions/Current/Resources/bin/R scDD.buildbin-libdir StartedAt: 2021-10-15 03:53:59 -0400 (Fri, 15 Oct 2021) EndedAt: 2021-10-15 03:55:03 -0400 (Fri, 15 Oct 2021) EllapsedTime: 64.1 seconds RetCode: 0 Status: OK PackageFile: scDD_1.16.0.tgz PackageFileSize: 1 MiB