Package: scBFA Version: 1.6.0 Command: rm -rf scBFA.buildbin-libdir && mkdir scBFA.buildbin-libdir && C:\Users\biocbuild\bbs-3.13-bioc\R\bin\R.exe CMD INSTALL --merge-multiarch --build --library=scBFA.buildbin-libdir scBFA_1.6.0.tar.gz StartedAt: 2021-10-15 11:37:52 -0400 (Fri, 15 Oct 2021) EndedAt: 2021-10-15 11:39:24 -0400 (Fri, 15 Oct 2021) EllapsedTime: 91.5 seconds RetCode: 0 Status: OK PackageFile: scBFA_1.6.0.zip PackageFileSize: 1.01 MiB