Package: savR Version: 1.30.0 Command: /home/biocbuild/bbs-3.13-bioc/R/bin/R CMD INSTALL savR StartedAt: 2021-10-14 06:07:54 -0400 (Thu, 14 Oct 2021) EndedAt: 2021-10-14 06:08:00 -0400 (Thu, 14 Oct 2021) EllapsedTime: 6.1 seconds RetCode: 0 Status: OK