Package: savR Version: 1.30.0 Command: /home/biocbuild/bbs-3.13-bioc/R/bin/R CMD check --install=check:savR.install-out.txt --library=/home/biocbuild/bbs-3.13-bioc/R/library --no-vignettes --timings savR_1.30.0.tar.gz StartedAt: 2021-10-14 11:28:11 -0400 (Thu, 14 Oct 2021) EndedAt: 2021-10-14 11:29:14 -0400 (Thu, 14 Oct 2021) EllapsedTime: 62.8 seconds RetCode: 0 Status: OK CheckDir: savR.Rcheck Warnings: 0