git_url: https://git.bioconductor.org/packages/satuRn git_branch: RELEASE_3_13 git_last_commit: d3fe0b2 git_last_commit_date: 2021-05-19 12:59:54 -0400 (Wed, 19 May 2021) Package: satuRn Version: 1.0.0 Maintainer: Jeroen Gilis MaintainerEmail: jeroen.gilis at ugent.be