Package: sarks Version: 1.4.0 Command: rm -rf sarks.buildbin-libdir && mkdir sarks.buildbin-libdir && C:\Users\biocbuild\bbs-3.13-bioc\R\bin\R.exe --arch x64 CMD INSTALL --no-multiarch --build --library=sarks.buildbin-libdir sarks_1.4.0.tar.gz StartedAt: 2021-10-15 11:35:55 -0400 (Fri, 15 Oct 2021) EndedAt: 2021-10-15 11:37:27 -0400 (Fri, 15 Oct 2021) EllapsedTime: 92.1 seconds RetCode: 0 Status: OK PackageFile: sarks_1.4.0.zip PackageFileSize: 559.9 KiB