Package: sarks Version: 1.4.0 Command: /home/biocbuild/bbs-3.13-bioc/R/bin/R CMD check --install=check:sarks.install-out.txt --library=/home/biocbuild/bbs-3.13-bioc/R/library --no-vignettes --timings sarks_1.4.0.tar.gz StartedAt: 2021-10-14 11:28:02 -0400 (Thu, 14 Oct 2021) EndedAt: 2021-10-14 11:29:19 -0400 (Thu, 14 Oct 2021) EllapsedTime: 76.7 seconds RetCode: 0 Status: OK CheckDir: sarks.Rcheck Warnings: 0